BEGIN:VCALENDAR
VERSION:2.0
PRODID:-//SwissRPG - ECPv6.15.20//NONSGML v1.0//EN
CALSCALE:GREGORIAN
METHOD:PUBLISH
X-WR-CALNAME:SwissRPG
X-ORIGINAL-URL:https://swissrpg.ch
X-WR-CALDESC:Events for SwissRPG
REFRESH-INTERVAL;VALUE=DURATION:PT1H
X-Robots-Tag:noindex
X-PUBLISHED-TTL:PT1H
BEGIN:VTIMEZONE
TZID:Europe/Paris
BEGIN:DAYLIGHT
TZOFFSETFROM:+0100
TZOFFSETTO:+0200
TZNAME:CEST
DTSTART:20230326T010000
END:DAYLIGHT
BEGIN:STANDARD
TZOFFSETFROM:+0200
TZOFFSETTO:+0100
TZNAME:CET
DTSTART:20231029T010000
END:STANDARD
BEGIN:DAYLIGHT
TZOFFSETFROM:+0100
TZOFFSETTO:+0200
TZNAME:CEST
DTSTART:20240331T010000
END:DAYLIGHT
BEGIN:STANDARD
TZOFFSETFROM:+0200
TZOFFSETTO:+0100
TZNAME:CET
DTSTART:20241027T010000
END:STANDARD
BEGIN:DAYLIGHT
TZOFFSETFROM:+0100
TZOFFSETTO:+0200
TZNAME:CEST
DTSTART:20250330T010000
END:DAYLIGHT
BEGIN:STANDARD
TZOFFSETFROM:+0200
TZOFFSETTO:+0100
TZNAME:CET
DTSTART:20251026T010000
END:STANDARD
END:VTIMEZONE
BEGIN:VEVENT
DTSTART;VALUE=DATE:20241011
DTEND;VALUE=DATE:20241014
DTSTAMP:20260422T004144
CREATED:20240408T082512Z
LAST-MODIFIED:20240408T090955Z
UID:4071-1728604800-1728863999@swissrpg.ch
SUMMARY:Hero Fest
DESCRIPTION:HeroFest is THE convention for gaming\, esports & cosplay in Switzerland. Visitors can immerse themselves in fantastic worlds here: from gaming\, esports\, cosplay and art\, anime and fantasy\, tabletop\, board and trading card games\, to food and lots of merchandise. Over 20\,000 gamers visit their annual highlight in the halls of BERNEXPO. Use this opportunity to connect with enthusiastic fans and build long-term customer relationships in an innovative and inspiring environment. \nSwissRPG will partner again with Die Diceons to build an amazing RPG Village where you can join RPG Sessions\, create your character\, paint a mini\, or just relax at the fire! \n   \n  
URL:https://swissrpg.ch/event/hero-fest-2024/
LOCATION:Bernexpo\, Mingerstrasse 6\, Bern\, 3014
CATEGORIES:Conventions
ATTACH;FMTTYPE=image/png:https://swissrpg.ch/wp-content/uploads/2024/04/Logo_Slider.png
END:VEVENT
END:VCALENDAR