BEGIN:VCALENDAR
VERSION:2.0
PRODID:-//SwissRPG - ECPv6.15.20//NONSGML v1.0//EN
CALSCALE:GREGORIAN
METHOD:PUBLISH
X-WR-CALNAME:SwissRPG
X-ORIGINAL-URL:https://swissrpg.ch
X-WR-CALDESC:Events for SwissRPG
REFRESH-INTERVAL;VALUE=DURATION:PT1H
X-Robots-Tag:noindex
X-PUBLISHED-TTL:PT1H
BEGIN:VTIMEZONE
TZID:Europe/Paris
BEGIN:DAYLIGHT
TZOFFSETFROM:+0100
TZOFFSETTO:+0200
TZNAME:CEST
DTSTART:20230326T010000
END:DAYLIGHT
BEGIN:STANDARD
TZOFFSETFROM:+0200
TZOFFSETTO:+0100
TZNAME:CET
DTSTART:20231029T010000
END:STANDARD
BEGIN:DAYLIGHT
TZOFFSETFROM:+0100
TZOFFSETTO:+0200
TZNAME:CEST
DTSTART:20240331T010000
END:DAYLIGHT
BEGIN:STANDARD
TZOFFSETFROM:+0200
TZOFFSETTO:+0100
TZNAME:CET
DTSTART:20241027T010000
END:STANDARD
BEGIN:DAYLIGHT
TZOFFSETFROM:+0100
TZOFFSETTO:+0200
TZNAME:CEST
DTSTART:20250330T010000
END:DAYLIGHT
BEGIN:STANDARD
TZOFFSETFROM:+0200
TZOFFSETTO:+0100
TZNAME:CET
DTSTART:20251026T010000
END:STANDARD
END:VTIMEZONE
BEGIN:VEVENT
DTSTART;TZID=Europe/Paris:20240727T130000
DTEND;TZID=Europe/Paris:20240727T180000
DTSTAMP:20260420T063207
CREATED:20240715T103846Z
LAST-MODIFIED:20240715T103846Z
UID:4099-1722085200-1722103200@swissrpg.ch
SUMMARY:Free RPG Day 2024
DESCRIPTION:SwissRPG hosts another Free RPG Day in collaboration with GECo where you can play awesome One Shots of different systems and even get a free goodie to take home with you!
URL:https://swissrpg.ch/event/free-rpg-day-2024/
LOCATION:ETH Zürich\, ETHZ CAB\, Universitätstr. 6\, Zürich\, 8092\, Switzerland
CATEGORIES:SwissRPG Events,Zurich
ATTACH;FMTTYPE=image/png:https://swissrpg.ch/wp-content/uploads/2024/07/free-rpg-day.png
END:VEVENT
END:VCALENDAR