BEGIN:VCALENDAR
VERSION:2.0
PRODID:-//SwissRPG - ECPv6.15.20//NONSGML v1.0//EN
CALSCALE:GREGORIAN
METHOD:PUBLISH
X-ORIGINAL-URL:https://swissrpg.ch
X-WR-CALDESC:Events for SwissRPG
REFRESH-INTERVAL;VALUE=DURATION:PT1H
X-Robots-Tag:noindex
X-PUBLISHED-TTL:PT1H
BEGIN:VTIMEZONE
TZID:Europe/Paris
BEGIN:DAYLIGHT
TZOFFSETFROM:+0100
TZOFFSETTO:+0200
TZNAME:CEST
DTSTART:20240331T010000
END:DAYLIGHT
BEGIN:STANDARD
TZOFFSETFROM:+0200
TZOFFSETTO:+0100
TZNAME:CET
DTSTART:20241027T010000
END:STANDARD
BEGIN:DAYLIGHT
TZOFFSETFROM:+0100
TZOFFSETTO:+0200
TZNAME:CEST
DTSTART:20250330T010000
END:DAYLIGHT
BEGIN:STANDARD
TZOFFSETFROM:+0200
TZOFFSETTO:+0100
TZNAME:CET
DTSTART:20251026T010000
END:STANDARD
BEGIN:DAYLIGHT
TZOFFSETFROM:+0100
TZOFFSETTO:+0200
TZNAME:CEST
DTSTART:20260329T010000
END:DAYLIGHT
BEGIN:STANDARD
TZOFFSETFROM:+0200
TZOFFSETTO:+0100
TZNAME:CET
DTSTART:20261025T010000
END:STANDARD
END:VTIMEZONE
BEGIN:VEVENT
DTSTART;TZID=Europe/Paris:20250330T133000
DTEND;TZID=Europe/Paris:20250330T173000
DTSTAMP:20260419T190814
CREATED:20250311T080530Z
LAST-MODIFIED:20250311T080530Z
UID:4337-1743341400-1743355800@swissrpg.ch
SUMMARY:Venez jouer pour les 30 ans de la Ludothèque de Chailly!
DESCRIPTION:A l’occasion de ses 30 ans\, la Ludothèque de Chailly propose une initiation jdr pour les enfants le 30.03.2025 dès 13h30\, selon le flyer ci-joint. \nSwissRPG a le plaisir d’y proposer ses services pour les plus jeunes\, grâce à l’aide et au soutien de notre meilleur MJ pour enfants : Wilfried! \nLes inscriptions passent par la Ludothèque\, sur place ou par téléphone jusqu’au 28 mars. Les places sont limitées! \n 
URL:https://swissrpg.ch/event/30ans_ludotheque_chailly/
LOCATION:Ludothèque de Chailly\, Chemin du Devin 10\, Lausanne\, VD\, 1012\, Switzerland
CATEGORIES:Books & Dragons,Lausanne
ATTACH;FMTTYPE=image/png:https://swissrpg.ch/wp-content/uploads/2025/03/LC_-_Pub_insta_anniversaire_2.png
END:VEVENT
END:VCALENDAR