BEGIN:VCALENDAR
VERSION:2.0
PRODID:-//SwissRPG - ECPv6.15.20//NONSGML v1.0//EN
CALSCALE:GREGORIAN
METHOD:PUBLISH
X-ORIGINAL-URL:https://swissrpg.ch
X-WR-CALDESC:Events for SwissRPG
REFRESH-INTERVAL;VALUE=DURATION:PT1H
X-Robots-Tag:noindex
X-PUBLISHED-TTL:PT1H
BEGIN:VTIMEZONE
TZID:Europe/Paris
BEGIN:DAYLIGHT
TZOFFSETFROM:+0100
TZOFFSETTO:+0200
TZNAME:CEST
DTSTART:20240331T010000
END:DAYLIGHT
BEGIN:STANDARD
TZOFFSETFROM:+0200
TZOFFSETTO:+0100
TZNAME:CET
DTSTART:20241027T010000
END:STANDARD
BEGIN:DAYLIGHT
TZOFFSETFROM:+0100
TZOFFSETTO:+0200
TZNAME:CEST
DTSTART:20250330T010000
END:DAYLIGHT
BEGIN:STANDARD
TZOFFSETFROM:+0200
TZOFFSETTO:+0100
TZNAME:CET
DTSTART:20251026T010000
END:STANDARD
BEGIN:DAYLIGHT
TZOFFSETFROM:+0100
TZOFFSETTO:+0200
TZNAME:CEST
DTSTART:20260329T010000
END:DAYLIGHT
BEGIN:STANDARD
TZOFFSETFROM:+0200
TZOFFSETTO:+0100
TZNAME:CET
DTSTART:20261025T010000
END:STANDARD
END:VTIMEZONE
BEGIN:VEVENT
DTSTART;TZID=Europe/Paris:20250205T143000
DTEND;TZID=Europe/Paris:20250205T183000
DTSTAMP:20260419T205336
CREATED:20250122T195216Z
LAST-MODIFIED:20250122T195216Z
UID:4160-1738765800-1738780200@swissrpg.ch
SUMMARY:3-2-1\, lancez les dés du jeu de rôle !
DESCRIPTION:L’aventure commence ici ! \nParticipez à une initiation aux jeux de rôle avec l’ABCDé et Swiss RPG ! Des sessions pour tous les âges vous plongent dans des univers fantastiques. \nSessions disponibles : \nTable 1 – Dès 8 ans\n14h30-16h : Hero Kids (8-10 ans)\n16h30-18h : Donjons & Chatons (10-14 ans)\n  Table 2 – Dès 12 ans\n15h-18h : Donjons & Dragons\n  Table 3 – Dès 18 ans\n15h-18h30 : S.T.A.L.K.E.R. \n    Table 4 – Tout public\n14h-18h30 : Scénarios courts (15 minutes) et activités en accès libre \nLes parents sont les bienvenus aux tables enfants si de la place est disponible. \nInscription obligatoire pour les tables 1 à 3 : \nÀ l’accueil de l’ABCDé\nPar téléphone : 021 977 01 20\nPar mail : abcde@la-tour-de-peilz.ch
URL:https://swissrpg.ch/event/3-2-1-lancez-les-des-du-jeu-de-role/
LOCATION:ABCDé – Bibliothèque-ludothèque\, Allée Gertrude Montet Girard 1\, La Tour-de-Peilz\, VD\, 1814\, Switzerland
CATEGORIES:Books & Dragons,Lausanne
END:VEVENT
END:VCALENDAR