BEGIN:VCALENDAR
VERSION:2.0
PRODID:-//SwissRPG - ECPv6.15.20//NONSGML v1.0//EN
CALSCALE:GREGORIAN
METHOD:PUBLISH
X-WR-CALNAME:SwissRPG
X-ORIGINAL-URL:https://swissrpg.ch
X-WR-CALDESC:Events for SwissRPG
REFRESH-INTERVAL;VALUE=DURATION:PT1H
X-Robots-Tag:noindex
X-PUBLISHED-TTL:PT1H
BEGIN:VTIMEZONE
TZID:Europe/Paris
BEGIN:DAYLIGHT
TZOFFSETFROM:+0100
TZOFFSETTO:+0200
TZNAME:CEST
DTSTART:20240331T010000
END:DAYLIGHT
BEGIN:STANDARD
TZOFFSETFROM:+0200
TZOFFSETTO:+0100
TZNAME:CET
DTSTART:20241027T010000
END:STANDARD
BEGIN:DAYLIGHT
TZOFFSETFROM:+0100
TZOFFSETTO:+0200
TZNAME:CEST
DTSTART:20250330T010000
END:DAYLIGHT
BEGIN:STANDARD
TZOFFSETFROM:+0200
TZOFFSETTO:+0100
TZNAME:CET
DTSTART:20251026T010000
END:STANDARD
BEGIN:DAYLIGHT
TZOFFSETFROM:+0100
TZOFFSETTO:+0200
TZNAME:CEST
DTSTART:20260329T010000
END:DAYLIGHT
BEGIN:STANDARD
TZOFFSETFROM:+0200
TZOFFSETTO:+0100
TZNAME:CET
DTSTART:20261025T010000
END:STANDARD
END:VTIMEZONE
BEGIN:VEVENT
DTSTART;TZID=Europe/Paris:20250322T170000
DTEND;TZID=Europe/Paris:20250322T230000
DTSTAMP:20260419T192838
CREATED:20250129T143229Z
LAST-MODIFIED:20250213T065408Z
UID:4169-1742662800-1742684400@swissrpg.ch
SUMMARY:Médiéval Fantastique à Chillon
DESCRIPTION:Le temps d’une soirée inédite\, venez célébrer la Fantasy sous toutes ses formes ! \nUn programme riche et varié dans une ambiance musicale fantastique : \n\njeux de plateau\njeux de rôle\njeux vidéo\nséances de dédicace\nconférences\nconcert Epic music\natelier sur l’illustration\, le sound design\, la litterature fantasy\nfigurines\nwargames\nrestauration d’inspiration médiévale\n\nPetit concert : laissez votre créativité briller en venant costumé(e) et rejoignez-nous pour une immersion totale! \n\nSwissRPG aura le plaisir et l’honneur d’intégrer le programme avec une initiation aux jeux de rôle dans la salle 14.  \n\nProgramme complet en suivant ce lien. \n\nCrédit illustrations : Tarik Boussekine
URL:https://swissrpg.ch/event/medieval-fantastique-a-chillon/
LOCATION:Château de Chillon\, Avenue de Chillon 21\, Veytaux\, VD\, 1820\, Switzerland
CATEGORIES:Geneva,Lausanne,SwissRPG Events
ATTACH;FMTTYPE=image/jpeg:https://swissrpg.ch/wp-content/uploads/2025/01/Medieval_Fantastique_Chillon_2025_Header_Facebook_851x315px_3-e1769772785878.jpg
ORGANIZER;CN="Ch%C3%A2teau de Chillon":MAILTO:info@chillon.ch
END:VEVENT
END:VCALENDAR